Workbook

Sheet Socios
A2: Control de cuotas del club
A3: Hecho por renuzy, cuotas sin complicaciones · renuzy.com
A4: Escriba en las celdas amarillo claro. Monto, Vigente hasta y Estado se calculan solos.
A5: Nombre | B5: Correo | C5: Tipo de membresía | D5: Monto | E5: Fecha de pago | F5: Vigente hasta | G5: Estado | H5: Notas
A6: Ana Rivera | B6: ana@example.com | C6: Individual | D6: =IF(C6="","",IFERROR(VLOOKUP(C6,Tipos!$A$6:$B$30,2,FALSE),"")) | E6: 46283 | F6: =IF(E6="","",EDATE(E6,12)) | G6: =IF(A6="","",IF(F6="","Sin pagar",IF(F6<TODAY(),"Vencido",IF(F6-TODAY()<=30,"Vence pronto","Al día"))))
A7: Benito Ortiz | B7: benito@example.com | C7: Familiar | D7: =IF(C7="","",IFERROR(VLOOKUP(C7,Tipos!$A$6:$B$30,2,FALSE),"")) | E7: 45963 | F7: =IF(E7="","",EDATE(E7,12)) | G7: =IF(A7="","",IF(F7="","Sin pagar",IF(F7<TODAY(),"Vencido",IF(F7-TODAY()<=30,"Vence pronto","Al día"))))
A8: Carla Torres | B8: carla@example.com | C8: Estudiante | D8: =IF(C8="","",IFERROR(VLOOKUP(C8,Tipos!$A$6:$B$30,2,FALSE),"")) | E8: 45913 | F8: =IF(E8="","",EDATE(E8,12)) | G8: =IF(A8="","",IF(F8="","Sin pagar",IF(F8<TODAY(),"Vencido",IF(F8-TODAY()<=30,"Vence pronto","Al día"))))
A9: David Peña | B9: david@example.com | C9: Adulto mayor | D9: =IF(C9="","",IFERROR(VLOOKUP(C9,Tipos!$A$6:$B$30,2,FALSE),"")) | F9: =IF(E9="","",EDATE(E9,12)) | G9: =IF(A9="","",IF(F9="","Sin pagar",IF(F9<TODAY(),"Vencido",IF(F9-TODAY()<=30,"Vence pronto","Al día"))))
A10: Elena Bravo | B10: elena@example.com | C10: Familiar | D10: =IF(C10="","",IFERROR(VLOOKUP(C10,Tipos!$A$6:$B$30,2,FALSE),"")) | E10: 46193 | F10: =IF(E10="","",EDATE(E10,12)) | G10: =IF(A10="","",IF(F10="","Sin pagar",IF(F10<TODAY(),"Vencido",IF(F10-TODAY()<=30,"Vence pronto","Al día"))))
A11: Francisco Mora | B11: francisco@example.com | C11: Vitalicio | D11: =IF(C11="","",IFERROR(VLOOKUP(C11,Tipos!$A$6:$B$30,2,FALSE),"")) | E11: 46303 | F11: =IF(E11="","",EDATE(E11,12)) | G11: =IF(A11="","",IF(F11="","Sin pagar",IF(F11<TODAY(),"Vencido",IF(F11-TODAY()<=30,"Vence pronto","Al día"))))
D12: =IF(C12="","",IFERROR(VLOOKUP(C12,Tipos!$A$6:$B$30,2,FALSE),"")) | F12: =IF(E12="","",EDATE(E12,12)) | G12: =IF(A12="","",IF(F12="","Sin pagar",IF(F12<TODAY(),"Vencido",IF(F12-TODAY()<=30,"Vence pronto","Al día"))))
D13: =IF(C13="","",IFERROR(VLOOKUP(C13,Tipos!$A$6:$B$30,2,FALSE),"")) | F13: =IF(E13="","",EDATE(E13,12)) | G13: =IF(A13="","",IF(F13="","Sin pagar",IF(F13<TODAY(),"Vencido",IF(F13-TODAY()<=30,"Vence pronto","Al día"))))
D14: =IF(C14="","",IFERROR(VLOOKUP(C14,Tipos!$A$6:$B$30,2,FALSE),"")) | F14: =IF(E14="","",EDATE(E14,12)) | G14: =IF(A14="","",IF(F14="","Sin pagar",IF(F14<TODAY(),"Vencido",IF(F14-TODAY()<=30,"Vence pronto","Al día"))))
D15: =IF(C15="","",IFERROR(VLOOKUP(C15,Tipos!$A$6:$B$30,2,FALSE),"")) | F15: =IF(E15="","",EDATE(E15,12)) | G15: =IF(A15="","",IF(F15="","Sin pagar",IF(F15<TODAY(),"Vencido",IF(F15-TODAY()<=30,"Vence pronto","Al día"))))
D16: =IF(C16="","",IFERROR(VLOOKUP(C16,Tipos!$A$6:$B$30,2,FALSE),"")) | F16: =IF(E16="","",EDATE(E16,12)) | G16: =IF(A16="","",IF(F16="","Sin pagar",IF(F16<TODAY(),"Vencido",IF(F16-TODAY()<=30,"Vence pronto","Al día"))))
D17: =IF(C17="","",IFERROR(VLOOKUP(C17,Tipos!$A$6:$B$30,2,FALSE),"")) | F17: =IF(E17="","",EDATE(E17,12)) | G17: =IF(A17="","",IF(F17="","Sin pagar",IF(F17<TODAY(),"Vencido",IF(F17-TODAY()<=30,"Vence pronto","Al día"))))
D18: =IF(C18="","",IFERROR(VLOOKUP(C18,Tipos!$A$6:$B$30,2,FALSE),"")) | F18: =IF(E18="","",EDATE(E18,12)) | G18: =IF(A18="","",IF(F18="","Sin pagar",IF(F18<TODAY(),"Vencido",IF(F18-TODAY()<=30,"Vence pronto","Al día"))))
D19: =IF(C19="","",IFERROR(VLOOKUP(C19,Tipos!$A$6:$B$30,2,FALSE),"")) | F19: =IF(E19="","",EDATE(E19,12)) | G19: =IF(A19="","",IF(F19="","Sin pagar",IF(F19<TODAY(),"Vencido",IF(F19-TODAY()<=30,"Vence pronto","Al día"))))
D20: =IF(C20="","",IFERROR(VLOOKUP(C20,Tipos!$A$6:$B$30,2,FALSE),"")) | F20: =IF(E20="","",EDATE(E20,12)) | G20: =IF(A20="","",IF(F20="","Sin pagar",IF(F20<TODAY(),"Vencido",IF(F20-TODAY()<=30,"Vence pronto","Al día"))))
D21: =IF(C21="","",IFERROR(VLOOKUP(C21,Tipos!$A$6:$B$30,2,FALSE),"")) | F21: =IF(E21="","",EDATE(E21,12)) | G21: =IF(A21="","",IF(F21="","Sin pagar",IF(F21<TODAY(),"Vencido",IF(F21-TODAY()<=30,"Vence pronto","Al día"))))
D22: =IF(C22="","",IFERROR(VLOOKUP(C22,Tipos!$A$6:$B$30,2,FALSE),"")) | F22: =IF(E22="","",EDATE(E22,12)) | G22: =IF(A22="","",IF(F22="","Sin pagar",IF(F22<TODAY(),"Vencido",IF(F22-TODAY()<=30,"Vence pronto","Al día"))))
D23: =IF(C23="","",IFERROR(VLOOKUP(C23,Tipos!$A$6:$B$30,2,FALSE),"")) | F23: =IF(E23="","",EDATE(E23,12)) | G23: =IF(A23="","",IF(F23="","Sin pagar",IF(F23<TODAY(),"Vencido",IF(F23-TODAY()<=30,"Vence pronto","Al día"))))
... D505: =IF(C505="","",IFERROR(VLOOKUP(C505,Tipos!$A$6:$B$30,2,FALSE),"")) | F505: =IF(E505="","",EDATE(E505,12)) | G505: =IF(A505="","",IF(F505="","Sin pagar",IF(F505<TODAY(),"Vencido",IF(F505-TODAY()<=30,"Vence pronto","Al día"))))
A507: ¿Lleva las cuotas de un club? Vea cómo puede ayudarle renuzy en renuzy.com

Sheet Tipos
A2: Control de cuotas del club: tipos de membresía
A3: Hecho por renuzy, cuotas sin complicaciones · renuzy.com
A4: Sus tipos de membresía y cuánto cuesta cada uno al año. La pestaña Socios los busca aquí.
A5: Tipo de membresía | B5: Cuota anual
A6: Individual | B6: 40
A7: Familiar | B7: 60
A8: Estudiante | B8: 20
A9: Adulto mayor | B9: 30
A10: Vitalicio | B10: 0
A33: ¿Lleva las cuotas de un club? Vea cómo puede ayudarle renuzy en renuzy.com

Sheet Resumen
A2: Control de cuotas del club: resumen
A3: Hecho por renuzy, cuotas sin complicaciones · renuzy.com
A5: Socios en la lista | B5: =COUNTA(Socios!A6:A505)
A6: Al día | B6: =COUNTIF(Socios!G6:G505,"Al día")
A7: Vence pronto (en 30 días) | B7: =COUNTIF(Socios!G6:G505,"Vence pronto")
A8: Vencido | B8: =COUNTIF(Socios!G6:G505,"Vencido")
A9: Sin pagar | B9: =COUNTIF(Socios!G6:G505,"Sin pagar")
A11: Cuotas cobradas este año calendario | B11: =SUMIFS(Socios!D6:D505,Socios!E6:E505,">="&DATE(YEAR(TODAY()),1,1),Socios!E6:E505,"<="&DATE(YEAR(TODAY()),12,31))
A12: Cuotas por cobrar (por vencer, vencidas, sin pagar) | B12: =SUMIFS(Socios!D6:D505,Socios!G6:G505,"Vence pronto")+SUMIFS(Socios!D6:D505,Socios!G6:G505,"Vencido")+SUMIFS(Socios!D6:D505,Socios!G6:G505,"Sin pagar")
A15: Socios por tipo | B15: Socios
A16: =IF(Tipos!A6="","",Tipos!A6) | B16: =IF(A16="","",COUNTIF(Socios!C6:C505,A16))
A17: =IF(Tipos!A7="","",Tipos!A7) | B17: =IF(A17="","",COUNTIF(Socios!C6:C505,A17))
A18: =IF(Tipos!A8="","",Tipos!A8) | B18: =IF(A18="","",COUNTIF(Socios!C6:C505,A18))
A19: =IF(Tipos!A9="","",Tipos!A9) | B19: =IF(A19="","",COUNTIF(Socios!C6:C505,A19))
A20: =IF(Tipos!A10="","",Tipos!A10) | B20: =IF(A20="","",COUNTIF(Socios!C6:C505,A20))
A21: =IF(Tipos!A11="","",Tipos!A11) | B21: =IF(A21="","",COUNTIF(Socios!C6:C505,A21))
A22: =IF(Tipos!A12="","",Tipos!A12) | B22: =IF(A22="","",COUNTIF(Socios!C6:C505,A22))
A23: =IF(Tipos!A13="","",Tipos!A13) | B23: =IF(A23="","",COUNTIF(Socios!C6:C505,A23))
A24: =IF(Tipos!A14="","",Tipos!A14) | B24: =IF(A24="","",COUNTIF(Socios!C6:C505,A24))
A25: =IF(Tipos!A15="","",Tipos!A15) | B25: =IF(A25="","",COUNTIF(Socios!C6:C505,A25))
A28: ¿Lleva las cuotas de un club? Vea cómo puede ayudarle renuzy en renuzy.com
